BEGIN:VCALENDAR
VERSION:2.0
PRODID:-//Christusbund Jettingen - ECPv5.16.4.1//NONSGML v1.0//EN
CALSCALE:GREGORIAN
METHOD:PUBLISH
X-WR-CALNAME:Christusbund Jettingen
X-ORIGINAL-URL:https://christusbund-jettingen.de
X-WR-CALDESC:Veranstaltungen für Christusbund Jettingen
BEGIN:VTIMEZONE
TZID:Europe/Berlin
BEGIN:DAYLIGHT
TZOFFSETFROM:+0100
TZOFFSETTO:+0200
TZNAME:CEST
DTSTART:20260329T010000
END:DAYLIGHT
BEGIN:STANDARD
TZOFFSETFROM:+0200
TZOFFSETTO:+0100
TZNAME:CET
DTSTART:20261025T010000
END:STANDARD
END:VTIMEZONE
BEGIN:VEVENT
DTSTART;TZID=Europe/Berlin:20260405T083000
DTEND;TZID=Europe/Berlin:20260405T113000
DTSTAMP:20260422T133835
CREATED:20251231T105114Z
LAST-MODIFIED:20251231T105114Z
UID:7250-1775377800-1775388600@christusbund-jettingen.de
SUMMARY:Gottesdienst / Osterfrühstück
DESCRIPTION:Jesus – für uns auferstanden / 1. Petrus 1\, 3-5 / Ruben Sigg / mit Kindergottesdienst \nOsterfrühstück 8:30 Uhr \nInformationen dazu unter info@christusbund-jettingen.de oder 07452/77808. \n 
URL:https://christusbund-jettingen.de/termine/gottesdienst-87-2-2-2-2-2-2-2-2-2-2-2-2-2-2-2-2-3-2-2-2/
LOCATION:Gemeindehaus\, Versammlungssaal EG\, Kohlpatte 10\, Jettingen\, Baden-Württemberg\, 71131\, Deutschland
CATEGORIES:Gottesdienst
END:VEVENT
END:VCALENDAR