BEGIN:VCALENDAR
VERSION:2.0
PRODID:-//Christusbund Jettingen - ECPv5.16.4.1//NONSGML v1.0//EN
CALSCALE:GREGORIAN
METHOD:PUBLISH
X-WR-CALNAME:Christusbund Jettingen
X-ORIGINAL-URL:https://christusbund-jettingen.de
X-WR-CALDESC:Veranstaltungen für Christusbund Jettingen
BEGIN:VTIMEZONE
TZID:Europe/Berlin
BEGIN:DAYLIGHT
TZOFFSETFROM:+0100
TZOFFSETTO:+0200
TZNAME:CEST
DTSTART:20260329T010000
END:DAYLIGHT
BEGIN:STANDARD
TZOFFSETFROM:+0200
TZOFFSETTO:+0100
TZNAME:CET
DTSTART:20261025T010000
END:STANDARD
END:VTIMEZONE
BEGIN:VEVENT
DTSTART;TZID=Europe/Berlin:20260426T100000
DTEND;TZID=Europe/Berlin:20260426T150000
DTSTAMP:20260424T121654
CREATED:20251231T104728Z
LAST-MODIFIED:20251231T104728Z
UID:7248-1777197600-1777215600@christusbund-jettingen.de
SUMMARY:Gemeinschaftstag
DESCRIPTION:Ankommen: 10:00 Uhr \nGemeinschaftsgottesdienst: 10:30 Uhr
URL:https://christusbund-jettingen.de/termine/gottesdienst-61-4-2/
LOCATION:Dietersweiler\, Raiffeisenstraße 39\, Freudenstadt-Dietersweiler\, Baden-Württemberg\, 72250\, Deutschland
CATEGORIES:Gottesdienst
END:VEVENT
END:VCALENDAR